

BEGIN:VCALENDAR
VERSION:2.0
PRODID:-//hacksw/handcal//NONSGML v1.0//EN
CALSCALE:GREGORIAN
BEGIN:VEVENT
DTEND:20200417T213000
UID:603424c74e3a4
DTSTAMP:20210223T084023
LOCATION:Flagstaff Hill Primary School 145 Black Road Flagstaff Hill 5159 SA
DESCRIPTION:Event Cancelled&nbsp\;
URL;VALUE=URI:http://flagstaffhillartshow.com.au/event/21217
SUMMARY:Opening Night
DTSTART:20200417T193000
END:VEVENT
END:VCALENDAR

